Package: cghMCR Version: 1.62.0 Command: /Library/Frameworks/R.framework/Resources/bin/R CMD build --keep-empty-dirs --no-resave-data cghMCR StartedAt: 2024-10-16 21:15:10 -0400 (Wed, 16 Oct 2024) EndedAt: 2024-10-16 21:16:50 -0400 (Wed, 16 Oct 2024) EllapsedTime: 99.4 seconds RetCode: 0 Status: OK PackageFile: cghMCR_1.62.0.tar.gz PackageFileSize: 36.1 MiB