Package: cghMCR Version: 1.62.0 Command: rm -rf cghMCR.buildbin-libdir && mkdir cghMCR.buildbin-libdir && /Users/biocbuild/BBS/utils/build-universal.sh cghMCR_1.62.0.tar.gz /Library/Frameworks/R.framework/Resources/bin/R cghMCR.buildbin-libdir StartedAt: 2024-10-18 17:43:27 -0400 (Fri, 18 Oct 2024) EndedAt: 2024-10-18 17:44:06 -0400 (Fri, 18 Oct 2024) EllapsedTime: 39.5 seconds RetCode: 0 Status: OK PackageFile: cghMCR_1.62.0.tgz PackageFileSize: 37.03 MiB