Package: cfdnakit Version: 1.2.0 Command: E:\biocbuild\bbs-3.19-bioc\R\bin\R.exe CMD check --no-multiarch --install=check:cfdnakit.install-out.txt --library=E:\biocbuild\bbs-3.19-bioc\R\library --no-vignettes --timings cfdnakit_1.2.0.tar.gz StartedAt: 2024-10-16 23:53:01 -0400 (Wed, 16 Oct 2024) EndedAt: 2024-10-16 23:56:57 -0400 (Wed, 16 Oct 2024) EllapsedTime: 236.2 seconds RetCode: 0 Status: OK CheckDir: cfdnakit.Rcheck Warnings: 0