Package: cfdnakit Version: 1.2.0 Command: /Library/Frameworks/R.framework/Resources/bin/R CMD check --install=check:cfdnakit.install-out.txt --library=/Library/Frameworks/R.framework/Resources/library --no-vignettes --timings cfdnakit_1.2.0.tar.gz StartedAt: 2024-10-17 02:33:33 -0400 (Thu, 17 Oct 2024) EndedAt: 2024-10-17 02:41:30 -0400 (Thu, 17 Oct 2024) EllapsedTime: 477.3 seconds RetCode: 0 Status: OK CheckDir: cfdnakit.Rcheck Warnings: 0