Package: cfdnakit Version: 1.2.0 Command: /Library/Frameworks/R.framework/Resources/bin/R CMD build --keep-empty-dirs --no-resave-data cfdnakit StartedAt: 2024-10-16 17:50:35 -0400 (Wed, 16 Oct 2024) EndedAt: 2024-10-16 17:52:29 -0400 (Wed, 16 Oct 2024) EllapsedTime: 113.9 seconds RetCode: 0 Status: OK PackageFile: cfdnakit_1.2.0.tar.gz PackageFileSize: 3.021 MiB