Package: cfdnakit Version: 1.2.0 Command: /home/biocbuild/R/R-beta-2024-04-15_r86425/bin/R CMD check --install=check:cfdnakit.install-out.txt --library=/home/biocbuild/R/R-beta-2024-04-15_r86425/site-library --no-vignettes --timings cfdnakit_1.2.0.tar.gz StartedAt: 2024-05-09 05:43:40 -0000 (Thu, 09 May 2024) EndedAt: 2024-05-09 05:48:10 -0000 (Thu, 09 May 2024) EllapsedTime: 270.6 seconds RetCode: 0 Status: OK CheckDir: cfdnakit.Rcheck Warnings: 0