Package: cfdnakit Version: 1.2.0 Command: /Library/Frameworks/R.framework/Resources/bin/R CMD INSTALL cfdnakit StartedAt: 2024-10-16 17:08:52 -0400 (Wed, 16 Oct 2024) EndedAt: 2024-10-16 17:09:07 -0400 (Wed, 16 Oct 2024) EllapsedTime: 15.3 seconds RetCode: 0 Status: OK