Package: cfTools Version: 1.4.0 Command: /Library/Frameworks/R.framework/Resources/bin/R CMD check --install=check:cfTools.install-out.txt --library=/Library/Frameworks/R.framework/Resources/library --no-vignettes --timings cfTools_1.4.0.tar.gz StartedAt: 2024-10-17 02:34:01 -0400 (Thu, 17 Oct 2024) EndedAt: 2024-10-17 02:42:19 -0400 (Thu, 17 Oct 2024) EllapsedTime: 498.4 seconds RetCode: 0 Status: OK CheckDir: cfTools.Rcheck Warnings: 0