Package: cfTools Version: 1.4.0 Command: /Library/Frameworks/R.framework/Resources/bin/R CMD build --keep-empty-dirs --no-resave-data cfTools StartedAt: 2024-10-16 17:51:11 -0400 (Wed, 16 Oct 2024) EndedAt: 2024-10-16 17:55:11 -0400 (Wed, 16 Oct 2024) EllapsedTime: 240.3 seconds RetCode: 0 Status: OK PackageFile: cfTools_1.4.0.tar.gz PackageFileSize: 1.266 MiB