Package: cfTools Version: 1.4.0 Command: /home/biocbuild/R/R-beta-2024-04-15_r86425/bin/R CMD check --install=check:cfTools.install-out.txt --library=/home/biocbuild/R/R-beta-2024-04-15_r86425/site-library --no-vignettes --timings cfTools_1.4.0.tar.gz StartedAt: 2024-05-09 05:43:49 -0000 (Thu, 09 May 2024) EndedAt: 2024-05-09 05:47:57 -0000 (Thu, 09 May 2024) EllapsedTime: 248.5 seconds RetCode: 0 Status: OK CheckDir: cfTools.Rcheck Warnings: 0