Package: cfTools Version: 1.4.0 Command: /home/biocbuild/R/R-beta-2024-04-15_r86425/bin/R CMD build --keep-empty-dirs --no-resave-data cfTools StartedAt: 2024-05-08 23:12:50 -0000 (Wed, 08 May 2024) EndedAt: 2024-05-08 23:15:12 -0000 (Wed, 08 May 2024) EllapsedTime: 142.2 seconds RetCode: 0 Status: OK PackageFile: cfTools_1.4.0.tar.gz PackageFileSize: 1.336 MiB