Package: cfDNAPro Version: 1.10.0 Command: /Library/Frameworks/R.framework/Resources/bin/R CMD build --keep-empty-dirs --no-resave-data cfDNAPro StartedAt: 2024-10-16 21:13:19 -0400 (Wed, 16 Oct 2024) EndedAt: 2024-10-16 21:14:29 -0400 (Wed, 16 Oct 2024) EllapsedTime: 70.9 seconds RetCode: 0 Status: OK PackageFile: cfDNAPro_1.10.0.tar.gz PackageFileSize: 1.434 MiB