Package: cfDNAPro Version: 1.10.0 Maintainer: Haichao Wang MaintainerEmail: hw538 at cam.ac.uk git_url: https://git.bioconductor.org/packages/cfDNAPro git_branch: RELEASE_3_19 git_last_commit: 83b9016 git_last_commit_date: 2024-04-30 11:36:13 -0400 (Tue, 30 Apr 2024)