Package: censcyt Version: 1.12.0 Command: /Library/Frameworks/R.framework/Resources/bin/R CMD INSTALL censcyt StartedAt: 2024-10-16 16:48:57 -0400 (Wed, 16 Oct 2024) EndedAt: 2024-10-16 16:50:08 -0400 (Wed, 16 Oct 2024) EllapsedTime: 71.8 seconds RetCode: 0 Status: OK