Package: censcyt Version: 1.12.0 Command: /Library/Frameworks/R.framework/Resources/bin/R CMD build --keep-empty-dirs --no-resave-data censcyt StartedAt: 2024-06-09 16:07:59 -0400 (Sun, 09 Jun 2024) EndedAt: 2024-06-09 16:09:23 -0400 (Sun, 09 Jun 2024) EllapsedTime: 83.7 seconds RetCode: 0 Status: OK PackageFile: censcyt_1.12.0.tar.gz PackageFileSize: 510.4 KiB