Package: censcyt Version: 1.12.0 Command: /home/biocbuild/R/R-beta-2024-04-15_r86425/bin/R CMD check --install=check:censcyt.install-out.txt --library=/home/biocbuild/R/R-beta-2024-04-15_r86425/site-library --no-vignettes --timings censcyt_1.12.0.tar.gz StartedAt: 2024-05-09 05:42:19 -0000 (Thu, 09 May 2024) EndedAt: 2024-05-09 05:48:12 -0000 (Thu, 09 May 2024) EllapsedTime: 352.7 seconds RetCode: 0 Status: OK CheckDir: censcyt.Rcheck Warnings: 0