Package: censcyt Version: 1.12.0 Command: /Library/Frameworks/R.framework/Resources/bin/R CMD INSTALL censcyt StartedAt: 2024-06-09 17:40:15 -0400 (Sun, 09 Jun 2024) EndedAt: 2024-06-09 17:40:59 -0400 (Sun, 09 Jun 2024) EllapsedTime: 44.7 seconds RetCode: 0 Status: OK