Package: cellxgenedp Version: 1.8.0 Command: /home/biocbuild/bbs-3.19-bioc/R/bin/R CMD build --keep-empty-dirs --no-resave-data cellxgenedp StartedAt: 2024-10-16 17:36:23 -0400 (Wed, 16 Oct 2024) EndedAt: 2024-10-16 17:37:34 -0400 (Wed, 16 Oct 2024) EllapsedTime: 71.1 seconds RetCode: 0 Status: OK PackageFile: cellxgenedp_1.8.0.tar.gz PackageFileSize: 472 KiB