Package: cellxgenedp Version: 1.8.0 Command: /Library/Frameworks/R.framework/Resources/bin/R CMD build --keep-empty-dirs --no-resave-data cellxgenedp StartedAt: 2024-10-16 17:48:53 -0400 (Wed, 16 Oct 2024) EndedAt: 2024-10-16 17:52:15 -0400 (Wed, 16 Oct 2024) EllapsedTime: 202.5 seconds RetCode: 0 Status: OK PackageFile: cellxgenedp_1.8.0.tar.gz PackageFileSize: 471.8 KiB