Package: cellxgenedp Version: 1.8.0 Command: /Library/Frameworks/R.framework/Resources/bin/R CMD INSTALL cellxgenedp StartedAt: 2024-10-16 17:16:10 -0400 (Wed, 16 Oct 2024) EndedAt: 2024-10-16 17:16:16 -0400 (Wed, 16 Oct 2024) EllapsedTime: 5.8 seconds RetCode: 0 Status: OK