Package: cellxgenedp Version: 1.8.0 Command: /Library/Frameworks/R.framework/Resources/bin/R CMD build --keep-empty-dirs --no-resave-data cellxgenedp StartedAt: 2024-10-16 21:08:31 -0400 (Wed, 16 Oct 2024) EndedAt: 2024-10-16 21:10:13 -0400 (Wed, 16 Oct 2024) EllapsedTime: 101.9 seconds RetCode: 0 Status: OK PackageFile: cellxgenedp_1.8.0.tar.gz PackageFileSize: 471.9 KiB