Package: cellxgenedp Version: 1.8.0 Maintainer: Martin Morgan MaintainerEmail: mtmorgan.bioc at gmail.com git_url: https://git.bioconductor.org/packages/cellxgenedp git_branch: RELEASE_3_19 git_last_commit: b602f1b git_last_commit_date: 2024-04-30 11:40:40 -0400 (Tue, 30 Apr 2024)