Package: cellscape Version: 1.28.0 Command: E:\biocbuild\bbs-3.19-bioc\R\bin\R.exe CMD INSTALL cellscape StartedAt: 2024-10-16 16:44:51 -0400 (Wed, 16 Oct 2024) EndedAt: 2024-10-16 16:45:07 -0400 (Wed, 16 Oct 2024) EllapsedTime: 16.4 seconds RetCode: 0 Status: OK