Package: cellscape Version: 1.28.0 Command: chmod a+r cellscape -R && E:\biocbuild\bbs-3.19-bioc\R\bin\R.exe CMD build --keep-empty-dirs --no-resave-data cellscape StartedAt: 2024-10-16 18:06:28 -0400 (Wed, 16 Oct 2024) EndedAt: 2024-10-16 18:06:45 -0400 (Wed, 16 Oct 2024) EllapsedTime: 16.8 seconds RetCode: 0 Status: OK PackageFile: cellscape_1.28.0.tar.gz PackageFileSize: 898.3 KiB