Package: cellscape Version: 1.28.0 Command: rm -rf cellscape.buildbin-libdir && mkdir cellscape.buildbin-libdir && E:\biocbuild\bbs-3.19-bioc\R\bin\R.exe CMD INSTALL --build --library=cellscape.buildbin-libdir cellscape_1.28.0.tar.gz StartedAt: 2024-10-17 07:30:27 -0400 (Thu, 17 Oct 2024) EndedAt: 2024-10-17 07:30:43 -0400 (Thu, 17 Oct 2024) EllapsedTime: 16.6 seconds RetCode: 0 Status: OK PackageFile: cellscape_1.28.0.zip PackageFileSize: 879 KiB