Package: cellscape Version: 1.28.0 Command: /Library/Frameworks/R.framework/Resources/bin/R CMD INSTALL cellscape StartedAt: 2024-10-16 16:01:37 -0400 (Wed, 16 Oct 2024) EndedAt: 2024-10-16 16:01:46 -0400 (Wed, 16 Oct 2024) EllapsedTime: 9.2 seconds RetCode: 0 Status: OK