Package: cellmigRation Version: 1.12.0 Command: chmod a+r cellmigRation -R && E:\biocbuild\bbs-3.19-bioc\R\bin\R.exe CMD build --keep-empty-dirs --no-resave-data cellmigRation StartedAt: 2024-10-16 18:05:48 -0400 (Wed, 16 Oct 2024) EndedAt: 2024-10-16 18:09:02 -0400 (Wed, 16 Oct 2024) EllapsedTime: 193.9 seconds RetCode: 0 Status: OK PackageFile: cellmigRation_1.12.0.tar.gz PackageFileSize: 928.2 KiB