Package: cellmigRation Version: 1.12.0 Command: rm -rf cellmigRation.buildbin-libdir && mkdir cellmigRation.buildbin-libdir && /Users/biocbuild/BBS/utils/build-universal.sh cellmigRation_1.12.0.tar.gz /Library/Frameworks/R.framework/Resources/bin/R cellmigRation.buildbin-libdir StartedAt: 2024-10-18 17:41:51 -0400 (Fri, 18 Oct 2024) EndedAt: 2024-10-18 17:42:14 -0400 (Fri, 18 Oct 2024) EllapsedTime: 23.3 seconds RetCode: 0 Status: OK PackageFile: cellmigRation_1.12.0.tgz PackageFileSize: 1.985 MiB