Package: cellmigRation Version: 1.12.0 Maintainer: Waldir Leoncio MaintainerEmail: w.l.netto at medisin.uio.no git_url: https://git.bioconductor.org/packages/cellmigRation git_branch: RELEASE_3_19 git_last_commit: 38ab506 git_last_commit_date: 2024-04-30 11:33:08 -0400 (Tue, 30 Apr 2024)