Package: cellity Version: 1.32.0 Command: E:\biocbuild\bbs-3.19-bioc\R\bin\R.exe CMD check --no-multiarch --install=check:cellity.install-out.txt --library=E:\biocbuild\bbs-3.19-bioc\R\library --no-vignettes --timings cellity_1.32.0.tar.gz StartedAt: 2024-10-16 23:49:13 -0400 (Wed, 16 Oct 2024) EndedAt: 2024-10-16 23:52:25 -0400 (Wed, 16 Oct 2024) EllapsedTime: 192.5 seconds RetCode: 0 Status: OK CheckDir: cellity.Rcheck Warnings: 0