Package: cellity Version: 1.32.0 Command: chmod a+r cellity -R && E:\biocbuild\bbs-3.19-bioc\R\bin\R.exe CMD build --keep-empty-dirs --no-resave-data cellity StartedAt: 2024-10-16 18:04:44 -0400 (Wed, 16 Oct 2024) EndedAt: 2024-10-16 18:06:26 -0400 (Wed, 16 Oct 2024) EllapsedTime: 102.2 seconds RetCode: 0 Status: OK PackageFile: cellity_1.32.0.tar.gz PackageFileSize: 1.071 MiB