Package: cellity Version: 1.32.0 Command: rm -rf cellity.buildbin-libdir && mkdir cellity.buildbin-libdir && E:\biocbuild\bbs-3.19-bioc\R\bin\R.exe CMD INSTALL --build --library=cellity.buildbin-libdir cellity_1.32.0.tar.gz StartedAt: 2024-10-17 07:30:06 -0400 (Thu, 17 Oct 2024) EndedAt: 2024-10-17 07:30:40 -0400 (Thu, 17 Oct 2024) EllapsedTime: 33.7 seconds RetCode: 0 Status: OK PackageFile: cellity_1.32.0.zip PackageFileSize: 1.233 MiB