Package: cellity Version: 1.32.0 Command: chmod a+r cellity -R && F:\biocbuild\bbs-3.19-bioc\R\bin\R.exe CMD build --keep-empty-dirs --no-resave-data cellity StartedAt: 2024-06-26 17:41:15 -0400 (Wed, 26 Jun 2024) EndedAt: 2024-06-26 17:43:27 -0400 (Wed, 26 Jun 2024) EllapsedTime: 131.9 seconds RetCode: 0 Status: OK PackageFile: cellity_1.32.0.tar.gz PackageFileSize: 1.071 MiB