Package: cellity Version: 1.32.0 Command: /Library/Frameworks/R.framework/Resources/bin/R CMD check --install=check:cellity.install-out.txt --library=/Library/Frameworks/R.framework/Resources/library --no-vignettes --timings cellity_1.32.0.tar.gz StartedAt: 2024-06-09 19:18:22 -0400 (Sun, 09 Jun 2024) EndedAt: 2024-06-09 19:21:10 -0400 (Sun, 09 Jun 2024) EllapsedTime: 167.7 seconds RetCode: 0 Status: OK CheckDir: cellity.Rcheck Warnings: 0