Package: cellity Version: 1.32.0 Command: rm -rf cellity.buildbin-libdir && mkdir cellity.buildbin-libdir && /Users/biocbuild/BBS/utils/build-universal.sh cellity_1.32.0.tar.gz /Library/Frameworks/R.framework/Resources/bin/R cellity.buildbin-libdir StartedAt: 2024-06-10 00:10:23 -0400 (Mon, 10 Jun 2024) EndedAt: 2024-06-10 00:10:50 -0400 (Mon, 10 Jun 2024) EllapsedTime: 26.7 seconds RetCode: 0 Status: OK PackageFile: cellity_1.32.0.tgz PackageFileSize: 1.443 MiB