Package: cellbaseR Version: 1.28.0 Command: chmod a+r cellbaseR -R && E:\biocbuild\bbs-3.19-bioc\R\bin\R.exe CMD build --keep-empty-dirs --no-resave-data cellbaseR StartedAt: 2024-10-16 18:04:22 -0400 (Wed, 16 Oct 2024) EndedAt: 2024-10-16 18:05:47 -0400 (Wed, 16 Oct 2024) EllapsedTime: 85.5 seconds RetCode: 0 Status: OK PackageFile: cellbaseR_1.28.0.tar.gz PackageFileSize: 464.5 KiB