Package: cellbaseR Version: 1.28.0 Command: rm -rf cellbaseR.buildbin-libdir && mkdir cellbaseR.buildbin-libdir && E:\biocbuild\bbs-3.19-bioc\R\bin\R.exe CMD INSTALL --build --library=cellbaseR.buildbin-libdir cellbaseR_1.28.0.tar.gz StartedAt: 2024-10-17 07:29:58 -0400 (Thu, 17 Oct 2024) EndedAt: 2024-10-17 07:30:35 -0400 (Thu, 17 Oct 2024) EllapsedTime: 36.5 seconds RetCode: 0 Status: OK PackageFile: cellbaseR_1.28.0.zip PackageFileSize: 685.6 KiB