Package: cellbaseR Version: 1.28.0 Command: /home/biocbuild/bbs-3.19-bioc/R/bin/R CMD INSTALL cellbaseR StartedAt: 2024-10-16 16:02:15 -0400 (Wed, 16 Oct 2024) EndedAt: 2024-10-16 16:02:30 -0400 (Wed, 16 Oct 2024) EllapsedTime: 14.2 seconds RetCode: 0 Status: OK