Package: cellbaseR Version: 1.28.0 Command: /home/biocbuild/bbs-3.19-bioc/R/bin/R CMD check --install=check:cellbaseR.install-out.txt --library=/home/biocbuild/bbs-3.19-bioc/R/site-library --timings cellbaseR_1.28.0.tar.gz StartedAt: 2024-10-16 22:32:53 -0400 (Wed, 16 Oct 2024) EndedAt: 2024-10-16 22:35:15 -0400 (Wed, 16 Oct 2024) EllapsedTime: 142.3 seconds RetCode: 0 Status: OK CheckDir: cellbaseR.Rcheck Warnings: 0