Package: cellbaseR Version: 1.28.0 Command: /Library/Frameworks/R.framework/Resources/bin/R CMD build --keep-empty-dirs --no-resave-data cellbaseR StartedAt: 2024-10-16 17:46:12 -0400 (Wed, 16 Oct 2024) EndedAt: 2024-10-16 17:47:50 -0400 (Wed, 16 Oct 2024) EllapsedTime: 97.7 seconds RetCode: 0 Status: OK PackageFile: cellbaseR_1.28.0.tar.gz PackageFileSize: 530.9 KiB