Package: cellbaseR Version: 1.28.0 Command: /Library/Frameworks/R.framework/Resources/bin/R CMD INSTALL cellbaseR StartedAt: 2024-10-16 16:24:02 -0400 (Wed, 16 Oct 2024) EndedAt: 2024-10-16 16:24:20 -0400 (Wed, 16 Oct 2024) EllapsedTime: 17.7 seconds RetCode: 0 Status: OK