Package: cellbaseR Version: 1.28.0 Command: rm -rf cellbaseR.buildbin-libdir && mkdir cellbaseR.buildbin-libdir && /Users/biocbuild/BBS/utils/build-universal.sh cellbaseR_1.28.0.tar.gz /Library/Frameworks/R.framework/Resources/bin/R cellbaseR.buildbin-libdir StartedAt: 2024-10-18 17:41:08 -0400 (Fri, 18 Oct 2024) EndedAt: 2024-10-18 17:41:28 -0400 (Fri, 18 Oct 2024) EllapsedTime: 19.8 seconds RetCode: 0 Status: OK PackageFile: cellbaseR_1.28.0.tgz PackageFileSize: 746.6 KiB