Package: cellHTS2 Version: 2.68.0 Command: E:\biocbuild\bbs-3.19-bioc\R\bin\R.exe CMD INSTALL cellHTS2 StartedAt: 2024-10-16 16:58:39 -0400 (Wed, 16 Oct 2024) EndedAt: 2024-10-16 17:00:06 -0400 (Wed, 16 Oct 2024) EllapsedTime: 87.0 seconds RetCode: 0 Status: OK