Package: cellHTS2 Version: 2.68.0 Command: E:\biocbuild\bbs-3.19-bioc\R\bin\R.exe CMD check --no-multiarch --install=check:cellHTS2.install-out.txt --library=E:\biocbuild\bbs-3.19-bioc\R\library --no-vignettes --timings cellHTS2_2.68.0.tar.gz StartedAt: 2024-10-16 23:48:52 -0400 (Wed, 16 Oct 2024) EndedAt: 2024-10-16 23:53:39 -0400 (Wed, 16 Oct 2024) EllapsedTime: 287.0 seconds RetCode: 0 Status: OK CheckDir: cellHTS2.Rcheck Warnings: 0