Package: cellHTS2 Version: 2.68.0 Command: chmod a+r cellHTS2 -R && E:\biocbuild\bbs-3.19-bioc\R\bin\R.exe CMD build --keep-empty-dirs --no-resave-data cellHTS2 StartedAt: 2024-10-16 18:04:24 -0400 (Wed, 16 Oct 2024) EndedAt: 2024-10-16 18:08:40 -0400 (Wed, 16 Oct 2024) EllapsedTime: 256.2 seconds RetCode: 0 Status: OK PackageFile: cellHTS2_2.68.0.tar.gz PackageFileSize: 2.765 MiB