Package: cellHTS2 Version: 2.68.0 Command: rm -rf cellHTS2.buildbin-libdir && mkdir cellHTS2.buildbin-libdir && E:\biocbuild\bbs-3.19-bioc\R\bin\R.exe CMD INSTALL --build --library=cellHTS2.buildbin-libdir cellHTS2_2.68.0.tar.gz StartedAt: 2024-10-17 07:30:02 -0400 (Thu, 17 Oct 2024) EndedAt: 2024-10-17 07:31:16 -0400 (Thu, 17 Oct 2024) EllapsedTime: 74.2 seconds RetCode: 0 Status: OK PackageFile: cellHTS2_2.68.0.zip PackageFileSize: 3.772 MiB