Package: cellHTS2 Version: 2.68.0 Command: F:\biocbuild\bbs-3.19-bioc\R\bin\R.exe CMD check --no-multiarch --install=check:cellHTS2.install-out.txt --library=F:\biocbuild\bbs-3.19-bioc\R\library --no-vignettes --timings cellHTS2_2.68.0.tar.gz StartedAt: 2024-06-26 23:52:52 -0400 (Wed, 26 Jun 2024) EndedAt: 2024-06-26 23:57:36 -0400 (Wed, 26 Jun 2024) EllapsedTime: 283.5 seconds RetCode: 0 Status: WARNINGS CheckDir: cellHTS2.Rcheck Warnings: 1