Package: cellHTS2 Version: 2.68.0 Command: chmod a+r cellHTS2 -R && F:\biocbuild\bbs-3.19-bioc\R\bin\R.exe CMD build --keep-empty-dirs --no-resave-data cellHTS2 StartedAt: 2024-06-26 17:41:05 -0400 (Wed, 26 Jun 2024) EndedAt: 2024-06-26 17:45:10 -0400 (Wed, 26 Jun 2024) EllapsedTime: 244.6 seconds RetCode: 0 Status: OK PackageFile: cellHTS2_2.68.0.tar.gz PackageFileSize: 2.764 MiB