Package: cellHTS2 Version: 2.68.0 Command: /home/biocbuild/bbs-3.19-bioc/R/bin/R CMD INSTALL cellHTS2 StartedAt: 2024-10-16 16:29:05 -0400 (Wed, 16 Oct 2024) EndedAt: 2024-10-16 16:29:34 -0400 (Wed, 16 Oct 2024) EllapsedTime: 29.7 seconds RetCode: 0 Status: OK