Package: cellHTS2 Version: 2.68.0 Command: /Library/Frameworks/R.framework/Resources/bin/R CMD INSTALL cellHTS2 StartedAt: 2024-10-16 16:18:50 -0400 (Wed, 16 Oct 2024) EndedAt: 2024-10-16 16:20:07 -0400 (Wed, 16 Oct 2024) EllapsedTime: 76.7 seconds RetCode: 0 Status: OK